BEGIN:VCALENDAR
VERSION:2.0
PRODID:-//wp-events-plugin.com//7.2.3.1//EN
TZID:America/Chicago
X-WR-TIMEZONE:America/Chicago
BEGIN:VEVENT
UID:497@dsmgamingclub.com
DTSTART;TZID=America/Chicago:20250111T110000
DTEND;TZID=America/Chicago:20250111T210000
DTSTAMP:20250111T003906Z
URL:https://dsmgamingclub.com/events/snapback-vol-10/
SUMMARY:Snapback Vol. 10
DESCRIPTION:Welcome to Snapback! Iowa's Premier FGC Monthly.\n\nhttps://www
 .start.gg/tournament/snapback-vol-10/details\n\nhttps://discord.gg/yDa84ph
 4an\n\nStreet Fighter 6\nTekken 8\nGuilty Gear Strive\n\nVenue and Event I
 nformation\nUse address 2323 Grand Ave STE 400\, Des Moines\, IA 50312 to 
 get accurate directions to venue\n10$ venue fee to get in\nVenue will have
  snacks and drinks for sale\nBring your own controllers\nBe Respectful of 
 the venue\nIf you drive and carpool 4 or more people in your vehicle you w
 ill get your venue fee waived\nIf you bring a full set up (Monitor/console
  with atleast 1 tournament game and all DLC) you will have your venue fee 
 cut to 5$\nBYOC room where you can bring Laptops\, consoles\, etc to get g
 ames in outside the main tournament room!!\n\nVenue Info\n10$ to get in an
 d play casuals/enter brackets\nCasuals and set up start at 11\nBring your 
 own controller to make sure you are able to play games.\nTournaments ran o
 n PS4 and PS5 versions of games\nOnce tournaments start casual setups will
  be switched to tournaments unless otherwise specified\nPlease do not use 
 pronoun field to troll or promote bigotry. First case of this will be a au
 tomatic DQ and no refund. 2nd case is a ban from Events ran by the T.O.\n\
 nTournaments\n10$ to enter any of our 4 events\nCan enter as many brackets
  as you want no limits\nPrize splits will be 50/30/20 for all 3 games\nSch
 edule for the tournaments Will be determined by entrant numbers and crosso
 ver\n\nCasuals and set up start at 11:00 am\nStreet Fighter 6 12:00 pm\nGu
 ilty Gear Strive 12:00 pm\nTekken 8 2:00 pm\nCasuals until event ends at 9
 :00 pm
ATTACH;FMTTYPE=image/jpeg:https://dsmgamingclub.com/wp-content/uploads/202
 4/12/7176_image_471446932_1123490226453207_4135859776154497456_n.jpg
CATEGORIES:Monthly Tournament
LOCATION:Des Moines Gaming Club\, 2323 Grand Ave\, Des Moines\, IA\, 50312\
 , United States
GEO:41.578402;-93.624104
X-APPLE-STRUCTURED-LOCATION;VALUE=URI;X-ADDRESS=2323 Grand Ave\, Des Moines
 \, IA\, 50312\, United States;X-APPLE-RADIUS=100;X-TITLE=Des Moines Gaming
  Club:geo:41.578402,-93.624104
END:VEVENT
BEGIN:VTIMEZONE
TZID:America/Chicago
X-LIC-LOCATION:America/Chicago
BEGIN:STANDARD
DTSTART:20241103T010000
TZOFFSETFROM:-0500
TZOFFSETTO:-0600
TZNAME:CST
END:STANDARD
END:VTIMEZONE
END:VCALENDAR