BEGIN:VCALENDAR
VERSION:2.0
PRODID:-//wp-events-plugin.com//7.2.3.1//EN
TZID:America/Chicago
X-WR-TIMEZONE:America/Chicago
BEGIN:VEVENT
UID:498@dsmgamingclub.com
DTSTART;TZID=America/Chicago:20250118T110000
DTEND;TZID=America/Chicago:20250118T210000
DTSTAMP:20250111T003353Z
URL:https://dsmgamingclub.com/events/whos-on-ledge-10/
SUMMARY:Who's On Ledge? 10
DESCRIPTION:https://www.start.gg/tournament/who-s-on-ledge-10/details\n\nDM
 GC presents Who's on Ledge? Our monthly tournament series featuring Super 
 Smash Bros. Melee\, Ultimate\, Project+\, and Rivals of Aether II at RezBl
 ue Arena!\n\nLocation\n\n2323 Grand Ave STE 400\, Des Moines\, IA 50312\n\
 nParking is available onsite.\n\nIf you enter from the Grand Ave side door
 \, take the stairs down to find the venue.\n\nRegistration\nVenue Fee: $10
  ($5 off for carpool reimbursement for carpools of 4 people and outside of
  the Ames/DSM area)\nEvent Fee: $10 per event ($10 per team for doubles ev
 ents)\n\nPayment taken on-site\, cash only. You can only enter up to 3 eve
 nts\, and only one doubles event.\n\nIf you are travelling from outside th
 e DSM/Ames area and bring a carpool of at least 4 attendees\, the driver (
 or whoever the car designates) will receive $5 off their venue fee!\n\nStr
 eam\nUltimate will be streamed at WelfarePickles on Twitch.\nMelee will be
  streamed at GDubsMP4 on Twitch.\n\nSchedule\nVenue Opens and Emergency Re
 gistration: 11:00am\nUltimate Doubles: 12:00pm\nRoA II Doubles: 1:00pm\nUl
 timate Singles: 1:30pm\nMelee Doubles: 2:00pm\nProject+ Singles: 2:00pm\nR
 oA II Singles: 2:30pm\nMelee Singles: 3:30pm\nThis schedule is tentative a
 nd may change drastically based on interest/entrants in certain events. Th
 e confirmed schedule will be up at least a week before the event.\n\nIf Me
 lee Singles hits 24 entrants\, we will do our usual 4 RR Pools format. If 
 it stays below 24 entrants\, we will do all Bo5 Double Elimination bracket
 .\n\nWhere best of 5 sets begin depend on tournament attendance and are de
 termined day of\, but minimum will always be Top 8 for all Singles Bracket
 s.\n\nPayouts\n\nSingles Events (48+ entrants): Top 8\n\n1st: 40%\n2nd: 24
 %\n3rd: 16%\n4th: 10%\n5th: 5% each\n7th: Entry Fee\n\nSingles Events (32+
  entrants): Top 6\n\n1st: 50%\n2nd: 25%\n3rd: 15%\n4th: 10%\n5th: Entry Fe
 e\n\nSingles (20+ entrants): Top 4\n\n1st: 60%\n2nd: 30%\n3rd: 10%\n4th: E
 ntry Fee\n\nSingles Events / Ultimate Doubles (10+ entrants): Top 3\n\n1st
 : 60%\n2nd: 30%\n3rd: 10%\n\nMelee Doubles: Top 2\n\n1st: 70%\n2nd: 30%\n\
 nPayout percentages and placings are subject to change based on an event's
  attendance.\n\nRulesets\n\nUltimate Stagelist is below - we will be runni
 ng the Iowa Smash Bros. Ultimate Unified Stage Ruleset (included below). S
 horthand ruleset is available at https://docs.google.com/document/d/1Fam8h
 XJq8mszQtnNCGScKxaGxn5_pXIvLv868Vnwtec/\n\nMelee Ruleset: https://docs.goo
 gle.com/document/d/1yIDZRKL8ska9NXLiZHfDr_S_HRzk2Uwc7ujr1VdFlhM/\n\nClick 
 here to join our discord community! https://discord.gg/kNjfyKuH6p
ATTACH;FMTTYPE=image/jpeg:https://dsmgamingclub.com/wp-content/uploads/202
 5/01/7278_image_472476340_1137103281758568_5460370193620669278_n.jpg
CATEGORIES:Monthly Tournament
LOCATION:Des Moines Gaming Club\, 2323 Grand Ave\, Des Moines\, IA\, 50312\
 , United States
GEO:41.578402;-93.624104
X-APPLE-STRUCTURED-LOCATION;VALUE=URI;X-ADDRESS=2323 Grand Ave\, Des Moines
 \, IA\, 50312\, United States;X-APPLE-RADIUS=100;X-TITLE=Des Moines Gaming
  Club:geo:41.578402,-93.624104
END:VEVENT
BEGIN:VTIMEZONE
TZID:America/Chicago
X-LIC-LOCATION:America/Chicago
BEGIN:STANDARD
DTSTART:20241103T010000
TZOFFSETFROM:-0500
TZOFFSETTO:-0600
TZNAME:CST
END:STANDARD
END:VTIMEZONE
END:VCALENDAR